BEGIN:VCALENDAR
VERSION:2.0
PRODID:-//StreamRadar//Match Calendar//EN
CALSCALE:GREGORIAN
METHOD:PUBLISH
X-WR-CALNAME:Richards Bay vs AmaZulu
X-WR-TIMEZONE:America/New_York
BEGIN:VEVENT
UID:match-5556675@streamradar.soccer
SUMMARY:Richards Bay vs AmaZulu
DTSTAMP:20260423T181000Z
DTSTART;TZID=America/New_York:20260220T120000
DTEND;TZID=America/New_York:20260220T140000
LOCATION:King Zwelithini Stadium
DESCRIPTION:Où regarder Richards Bay vs AmaZulu en Afrique du Sud - Nedban
 k Cup. Diffusion en direct et programme TV.\nhttps://streamradar.soccer/fr/
 match/5556675/richards-bay-vs-amazulu/
URL;VALUE=URI:https://streamradar.soccer/fr/match/5556675/richards-bay-vs-a
 mazulu/
STATUS:CONFIRMED
END:VEVENT
END:VCALENDAR
