BEGIN:VCALENDAR
VERSION:2.0
PRODID:-//StreamRadar//Match Calendar//EN
CALSCALE:GREGORIAN
METHOD:PUBLISH
X-WR-CALNAME:JJ Urquiza vs Juventud Unida
X-WR-TIMEZONE:America/New_York
BEGIN:VEVENT
UID:match-5534217@streamradar.soccer
SUMMARY:JJ Urquiza vs Juventud Unida
DTSTAMP:20260421T204204Z
DTSTART;TZID=America/New_York:20260905T160000
DTEND;TZID=America/New_York:20260905T180000
DESCRIPTION:Où regarder JJ Urquiza vs Juventud Unida en Argentine - Primer
 a C Metropolitana. Diffusion en direct et programme TV.\nhttps://streamrada
 r.soccer/fr/match/5534217/jj-urquiza-vs-juventud-unida/
URL;VALUE=URI:https://streamradar.soccer/fr/match/5534217/jj-urquiza-vs-juv
 entud-unida/
STATUS:CONFIRMED
END:VEVENT
END:VCALENDAR
