BEGIN:VCALENDAR
VERSION:2.0
PRODID:-//StreamRadar//Match Calendar//EN
CALSCALE:GREGORIAN
METHOD:PUBLISH
X-WR-CALNAME:General Lamadrid vs Claypole
X-WR-TIMEZONE:America/New_York
BEGIN:VEVENT
UID:match-5534131@streamradar.soccer
SUMMARY:General Lamadrid vs Claypole
DTSTAMP:20260422T000459Z
DTSTART;TZID=America/New_York:20260725T160000
DTEND;TZID=America/New_York:20260725T180000
DESCRIPTION:Où regarder General Lamadrid vs Claypole en Argentine - Primer
 a C Metropolitana. Diffusion en direct et programme TV.\nhttps://streamrada
 r.soccer/fr/match/5534131/general-lamadrid-vs-claypole/
URL;VALUE=URI:https://streamradar.soccer/fr/match/5534131/general-lamadrid-
 vs-claypole/
STATUS:CONFIRMED
END:VEVENT
END:VCALENDAR
