BEGIN:VCALENDAR
VERSION:2.0
PRODID:-//StreamRadar//Match Calendar//EN
CALSCALE:GREGORIAN
METHOD:PUBLISH
X-WR-CALNAME:Pohang Steelers vs Seoul
X-WR-TIMEZONE:America/New_York
BEGIN:VEVENT
UID:match-5533824@streamradar.soccer
SUMMARY:Pohang Steelers vs Seoul
DTSTAMP:20260423T083952Z
DTSTART;TZID=America/New_York:20260920T060000
DTEND;TZID=America/New_York:20260920T080000
LOCATION:Pohang Steel Yard
DESCRIPTION:Où regarder Pohang Steelers vs Seoul en Corée du Sud - K Leag
 ue 1. Diffusion en direct et programme TV.\nhttps://streamradar.soccer/fr/m
 atch/5533824/pohang-steelers-vs-seoul/
URL;VALUE=URI:https://streamradar.soccer/fr/match/5533824/pohang-steelers-v
 s-seoul/
STATUS:CONFIRMED
END:VEVENT
END:VCALENDAR
