BEGIN:VCALENDAR
VERSION:2.0
PRODID:-//StreamRadar//Match Calendar//EN
CALSCALE:GREGORIAN
METHOD:PUBLISH
X-WR-CALNAME:Incheon United vs Bucheon 1995
X-WR-TIMEZONE:America/New_York
BEGIN:VEVENT
UID:match-5533807@streamradar.soccer
SUMMARY:Incheon United vs Bucheon 1995
DTSTAMP:20260422T005933Z
DTSTART;TZID=America/New_York:20260908T063000
DTEND;TZID=America/New_York:20260908T083000
LOCATION:Sungui Arena Park
DESCRIPTION:Où regarder Incheon United vs Bucheon 1995 en Corée du Sud - 
 K League 1. Diffusion en direct et programme TV.\nhttps://streamradar.socce
 r/fr/match/5533807/incheon-united-vs-bucheon-1995/
URL;VALUE=URI:https://streamradar.soccer/fr/match/5533807/incheon-united-vs
 -bucheon-1995/
STATUS:CONFIRMED
END:VEVENT
END:VCALENDAR
