BEGIN:VCALENDAR
VERSION:2.0
PRODID:-//StreamRadar//Match Calendar//EN
CALSCALE:GREGORIAN
METHOD:PUBLISH
X-WR-CALNAME:Kansas City Current vs Orlando Pride
X-WR-TIMEZONE:America/New_York
BEGIN:VEVENT
UID:match-5533581@streamradar.soccer
SUMMARY:Kansas City Current vs Orlando Pride
DTSTAMP:20260421T093013Z
DTSTART;TZID=America/New_York:20260911T200000
DTEND;TZID=America/New_York:20260911T220000
LOCATION:CPKC Stadium
DESCRIPTION:Où regarder Kansas City Current vs Orlando Pride en NWSL. Diff
 usion en direct et programme TV.\nhttps://streamradar.soccer/fr/match/55335
 81/kansas-city-current-vs-orlando-pride/
URL;VALUE=URI:https://streamradar.soccer/fr/match/5533581/kansas-city-curre
 nt-vs-orlando-pride/
STATUS:CONFIRMED
END:VEVENT
END:VCALENDAR
