BEGIN:VCALENDAR
VERSION:2.0
PRODID:-//StreamRadar//Match Calendar//EN
CALSCALE:GREGORIAN
METHOD:PUBLISH
X-WR-CALNAME:Varberg vs Norrköping
X-WR-TIMEZONE:America/New_York
BEGIN:VEVENT
UID:match-5531898@streamradar.soccer
SUMMARY:Varberg vs Norrköping
DTSTAMP:20260421T131014Z
DTSTART;TZID=America/New_York:20260909T090000
DTEND;TZID=America/New_York:20260909T110000
LOCATION:Paskbergsvallen
DESCRIPTION:Où regarder Varberg vs Norrköping en Suède - Superettan. Dif
 fusion en direct et programme TV.\nhttps://streamradar.soccer/fr/match/5531
 898/varberg-vs-norrkoping/
URL;VALUE=URI:https://streamradar.soccer/fr/match/5531898/varberg-vs-norrko
 ping/
STATUS:CONFIRMED
END:VEVENT
END:VCALENDAR
