BEGIN:VCALENDAR
VERSION:2.0
PRODID:-//StreamRadar//Match Calendar//EN
CALSCALE:GREGORIAN
METHOD:PUBLISH
X-WR-CALNAME:Colo-Colo vs Deportes Concepción
X-WR-TIMEZONE:America/New_York
BEGIN:VEVENT
UID:match-5530005@streamradar.soccer
SUMMARY:Colo-Colo vs Deportes Concepción
DTSTAMP:20260421T095713Z
DTSTART;TZID=America/New_York:20260913T160000
DTEND;TZID=America/New_York:20260913T180000
LOCATION:Estadio Monumental David Arellano
DESCRIPTION:Où regarder Colo-Colo vs Deportes Concepción en Chili - Prime
 ra División chilienne. Diffusion en direct et programme TV.\nhttps://strea
 mradar.soccer/fr/match/5530005/colo-colo-vs-deportes-concepcion/
URL;VALUE=URI:https://streamradar.soccer/fr/match/5530005/colo-colo-vs-depo
 rtes-concepcion/
STATUS:CONFIRMED
END:VEVENT
END:VCALENDAR
