BEGIN:VCALENDAR
VERSION:2.0
PRODID:-//StreamRadar//Match Calendar//EN
CALSCALE:GREGORIAN
METHOD:PUBLISH
X-WR-CALNAME:Audax Italiano vs O'Higgins
X-WR-TIMEZONE:America/New_York
BEGIN:VEVENT
UID:match-5530003@streamradar.soccer
SUMMARY:Audax Italiano vs O'Higgins
DTSTAMP:20260421T095713Z
DTSTART;TZID=America/New_York:20260913T160000
DTEND;TZID=America/New_York:20260913T180000
LOCATION:Estadio Bicentenario de La Florida
DESCRIPTION:Où regarder Audax Italiano vs O'Higgins en Chili - Primera Div
 isión chilienne. Diffusion en direct et programme TV.\nhttps://streamradar
 .soccer/fr/match/5530003/audax-italiano-vs-ohiggins/
URL;VALUE=URI:https://streamradar.soccer/fr/match/5530003/audax-italiano-vs
 -ohiggins/
STATUS:CONFIRMED
END:VEVENT
END:VCALENDAR
