BEGIN:VCALENDAR
VERSION:2.0
PRODID:-//StreamRadar//Match Calendar//EN
CALSCALE:GREGORIAN
METHOD:PUBLISH
X-WR-CALNAME:Palestino vs Univ. Concepción
X-WR-TIMEZONE:America/New_York
BEGIN:VEVENT
UID:match-5530001@streamradar.soccer
SUMMARY:Palestino vs Univ. Concepción
DTSTAMP:20260421T095835Z
DTSTART;TZID=America/New_York:20260906T000000
DTEND;TZID=America/New_York:20260906T020000
LOCATION:Estadio Municipal de La Cisterna
DESCRIPTION:Où regarder Palestino vs Univ. Concepción en Chili - Primera 
 División chilienne. Diffusion en direct et programme TV.\nhttps://streamra
 dar.soccer/fr/match/5530001/palestino-vs-univ-concepcion/
URL;VALUE=URI:https://streamradar.soccer/fr/match/5530001/palestino-vs-univ
 -concepcion/
STATUS:CONFIRMED
END:VEVENT
END:VCALENDAR
