BEGIN:VCALENDAR
VERSION:2.0
PRODID:-//StreamRadar//Match Calendar//EN
CALSCALE:GREGORIAN
METHOD:PUBLISH
X-WR-CALNAME:Eskilstuna United vs Häcken
X-WR-TIMEZONE:America/New_York
BEGIN:VEVENT
UID:match-5509155@streamradar.soccer
SUMMARY:Eskilstuna United vs Häcken
DTSTAMP:20260425T162318Z
DTSTART;TZID=America/New_York:20260920T090000
DTEND;TZID=America/New_York:20260920T110000
LOCATION:Tunavallen
DESCRIPTION:Où regarder Eskilstuna United vs Häcken en Suède - Damallsve
 nskan. Diffusion en direct et programme TV.\nhttps://streamradar.soccer/fr/
 match/5509155/eskilstuna-united-vs-hacken/
URL;VALUE=URI:https://streamradar.soccer/fr/match/5509155/eskilstuna-united
 -vs-hacken/
STATUS:CONFIRMED
END:VEVENT
END:VCALENDAR
