BEGIN:VCALENDAR
VERSION:2.0
PRODID:-//StreamRadar//Match Calendar//EN
CALSCALE:GREGORIAN
METHOD:PUBLISH
X-WR-CALNAME:Hønefoss vs Grorud
X-WR-TIMEZONE:America/New_York
BEGIN:VEVENT
UID:match-5508964@streamradar.soccer
SUMMARY:Hønefoss vs Grorud
DTSTAMP:20260421T103953Z
DTSTART;TZID=America/New_York:20260912T080000
DTEND;TZID=America/New_York:20260912T100000
DESCRIPTION:Où regarder Hønefoss vs Grorud en Norvège - 2. Divisjon. Dif
 fusion en direct et programme TV.\nhttps://streamradar.soccer/fr/match/5508
 964/honefoss-vs-grorud/
URL;VALUE=URI:https://streamradar.soccer/fr/match/5508964/honefoss-vs-groru
 d/
STATUS:CONFIRMED
END:VEVENT
END:VCALENDAR
