BEGIN:VCALENDAR
VERSION:2.0
PRODID:-//StreamRadar//Match Calendar//EN
CALSCALE:GREGORIAN
METHOD:PUBLISH
X-WR-CALNAME:Follo vs Tromsdalen
X-WR-TIMEZONE:America/New_York
BEGIN:VEVENT
UID:match-5508956@streamradar.soccer
SUMMARY:Follo vs Tromsdalen
DTSTAMP:20260421T133448Z
DTSTART;TZID=America/New_York:20260905T070000
DTEND;TZID=America/New_York:20260905T090000
LOCATION:Langhus kunstgress
DESCRIPTION:Où regarder Follo vs Tromsdalen en Norvège - 2. Divisjon. Dif
 fusion en direct et programme TV.\nhttps://streamradar.soccer/fr/match/5508
 956/follo-vs-tromsdalen/
URL;VALUE=URI:https://streamradar.soccer/fr/match/5508956/follo-vs-tromsdal
 en/
STATUS:CONFIRMED
END:VEVENT
END:VCALENDAR
