BEGIN:VCALENDAR
VERSION:2.0
PRODID:-//StreamRadar//Match Calendar//EN
CALSCALE:GREGORIAN
METHOD:PUBLISH
X-WR-CALNAME:Finn Harps vs Longford Town
X-WR-TIMEZONE:America/New_York
BEGIN:VEVENT
UID:match-5507400@streamradar.soccer
SUMMARY:Finn Harps vs Longford Town
DTSTAMP:20260425T174335Z
DTSTART;TZID=America/New_York:20260918T144500
DTEND;TZID=America/New_York:20260918T164500
LOCATION:Finn Park
DESCRIPTION:Où regarder Finn Harps vs Longford Town en Premier Division. D
 iffusion en direct et programme TV.\nhttps://streamradar.soccer/fr/match/55
 07400/finn-harps-vs-longford-town/
URL;VALUE=URI:https://streamradar.soccer/fr/match/5507400/finn-harps-vs-lon
 gford-town/
STATUS:CONFIRMED
END:VEVENT
END:VCALENDAR
