BEGIN:VCALENDAR
VERSION:2.0
PRODID:-//StreamRadar//Match Calendar//EN
CALSCALE:GREGORIAN
METHOD:PUBLISH
X-WR-CALNAME:Waterford United vs Derry City
X-WR-TIMEZONE:America/New_York
BEGIN:VEVENT
UID:match-5506283@streamradar.soccer
SUMMARY:Waterford United vs Derry City
DTSTAMP:20260425T115959Z
DTSTART;TZID=America/New_York:20260904T144500
DTEND;TZID=America/New_York:20260904T164500
LOCATION:Regional Sports Centre
DESCRIPTION:Où regarder Waterford United vs Derry City en Premier Division
 . Diffusion en direct et programme TV.\nhttps://streamradar.soccer/fr/match
 /5506283/waterford-united-vs-derry-city/
URL;VALUE=URI:https://streamradar.soccer/fr/match/5506283/waterford-united-
 vs-derry-city/
STATUS:CONFIRMED
END:VEVENT
END:VCALENDAR
