BEGIN:VCALENDAR
VERSION:2.0
PRODID:-//StreamRadar//Match Calendar//EN
CALSCALE:GREGORIAN
METHOD:PUBLISH
X-WR-CALNAME:Sporting JAX vs Rhode Island
X-WR-TIMEZONE:America/New_York
BEGIN:VEVENT
UID:match-5505603@streamradar.soccer
SUMMARY:Sporting JAX vs Rhode Island
DTSTAMP:20260421T133454Z
DTSTART;TZID=America/New_York:20260912T190000
DTEND;TZID=America/New_York:20260912T210000
LOCATION:Hodges Stadium
DESCRIPTION:Où regarder Sporting JAX vs Rhode Island en USL Championship. 
 Diffusion en direct et programme TV.\nhttps://streamradar.soccer/fr/match/5
 505603/sporting-jax-vs-rhode-island/
URL;VALUE=URI:https://streamradar.soccer/fr/match/5505603/sporting-jax-vs-r
 hode-island/
STATUS:CONFIRMED
END:VEVENT
END:VCALENDAR
