BEGIN:VCALENDAR
VERSION:2.0
PRODID:-//StreamRadar//Match Calendar//EN
CALSCALE:GREGORIAN
METHOD:PUBLISH
X-WR-CALNAME:Rhode Island vs Louisville City
X-WR-TIMEZONE:America/New_York
BEGIN:VEVENT
UID:match-5505590@streamradar.soccer
SUMMARY:Rhode Island vs Louisville City
DTSTAMP:20260421T104530Z
DTSTART;TZID=America/New_York:20260905T193000
DTEND;TZID=America/New_York:20260905T213000
LOCATION:Centreville Bank Stadium
DESCRIPTION:Où regarder Rhode Island vs Louisville City en USL Championshi
 p. Diffusion en direct et programme TV.\nhttps://streamradar.soccer/fr/matc
 h/5505590/rhode-island-vs-louisville-city/
URL;VALUE=URI:https://streamradar.soccer/fr/match/5505590/rhode-island-vs-l
 ouisville-city/
STATUS:CONFIRMED
END:VEVENT
END:VCALENDAR
