BEGIN:VCALENDAR
VERSION:2.0
PRODID:-//StreamRadar//Match Calendar//EN
CALSCALE:GREGORIAN
METHOD:PUBLISH
X-WR-CALNAME:Sporting KC vs Philadelphia Union
X-WR-TIMEZONE:America/New_York
BEGIN:VEVENT
UID:match-5505184@streamradar.soccer
SUMMARY:Sporting KC vs Philadelphia Union
DTSTAMP:20260424T040711Z
DTSTART;TZID=America/New_York:20260919T203000
DTEND;TZID=America/New_York:20260919T223000
DESCRIPTION:Où regarder Sporting KC vs Philadelphia Union en Major League 
 Soccer. Diffusion en direct et programme TV.\nhttps://streamradar.soccer/fr
 /match/5505184/sporting-kc-vs-philadelphia-union/
URL;VALUE=URI:https://streamradar.soccer/fr/match/5505184/sporting-kc-vs-ph
 iladelphia-union/
STATUS:CONFIRMED
END:VEVENT
END:VCALENDAR
