BEGIN:VCALENDAR
VERSION:2.0
PRODID:-//StreamRadar//Match Calendar//EN
CALSCALE:GREGORIAN
METHOD:PUBLISH
X-WR-CALNAME:Corinthians vs Chapecoense
X-WR-TIMEZONE:America/New_York
BEGIN:VEVENT
UID:match-5504543@streamradar.soccer
SUMMARY:Corinthians vs Chapecoense
DTSTAMP:20260421T092022Z
DTSTART;TZID=America/New_York:20260906T160000
DTEND;TZID=America/New_York:20260906T180000
LOCATION:Neo Quimica Arena
DESCRIPTION:OÃ¹ regarder Corinthians vs Chapecoense en BrÃ©sil - BrasileirÃ
 £o. Diffusion en direct et programme TV.\nhttps://streamradar.soccer/fr/mat
 ch/5504543/corinthians-vs-chapecoense/
URL;VALUE=URI:https://streamradar.soccer/fr/match/5504543/corinthians-vs-ch
 apecoense/
STATUS:CONFIRMED
END:VEVENT
END:VCALENDAR
