BEGIN:VCALENDAR
VERSION:2.0
PRODID:-//StreamRadar//Match Calendar//EN
CALSCALE:GREGORIAN
METHOD:PUBLISH
X-WR-CALNAME:Tampa Bay Rowdies vs Sarasota Paradise
X-WR-TIMEZONE:America/New_York
BEGIN:VEVENT
UID:match-5620810@streamradar.soccer
SUMMARY:Tampa Bay Rowdies vs Sarasota Paradise
DTSTAMP:20260424T171547Z
DTSTART;TZID=America/New_York:20260425T193000
DTEND;TZID=America/New_York:20260425T213000
LOCATION:Al Lang Stadium
DESCRIPTION:Dónde ver Tampa Bay Rowdies vs Sarasota Paradise en Estados Un
 idos - USL Cup. Transmisión en vivo y programación de TV.\nhttps://stream
 radar.soccer/es/match/5620810/tampa-bay-rowdies-vs-sarasota-paradise/
URL;VALUE=URI:https://streamradar.soccer/es/match/5620810/tampa-bay-rowdies
 -vs-sarasota-paradise/
STATUS:CONFIRMED
END:VEVENT
END:VCALENDAR
