BEGIN:VCALENDAR
VERSION:2.0
PRODID:-//StreamRadar//Match Calendar//EN
CALSCALE:GREGORIAN
METHOD:PUBLISH
X-WR-CALNAME:Parma vs Lazio
X-WR-TIMEZONE:America/New_York
BEGIN:VEVENT
UID:match-5620209@streamradar.soccer
SUMMARY:Parma vs Lazio
DTSTAMP:20260424T121529Z
DTSTART;TZID=America/New_York:20260503T063000
DTEND;TZID=America/New_York:20260503T083000
LOCATION:Stadio Ennio Tardini
DESCRIPTION:Dónde ver Parma vs Lazio en Serie A femenina. Transmisión en 
 vivo y programación de TV.\nhttps://streamradar.soccer/es/match/5620209/pa
 rma-vs-lazio/
URL;VALUE=URI:https://streamradar.soccer/es/match/5620209/parma-vs-lazio/
STATUS:CONFIRMED
END:VEVENT
END:VCALENDAR
