BEGIN:VCALENDAR
VERSION:2.0
PRODID:-//StreamRadar//Match Calendar//EN
CALSCALE:GREGORIAN
METHOD:PUBLISH
X-WR-CALNAME:Silifke Belediyespor vs Malatya YS
X-WR-TIMEZONE:America/New_York
BEGIN:VEVENT
UID:match-5620201@streamradar.soccer
SUMMARY:Silifke Belediyespor vs Malatya YS
DTSTAMP:20260424T121518Z
DTSTART;TZID=America/New_York:20260427T130000
DTEND;TZID=America/New_York:20260427T150000
LOCATION:Silifke Şehir Stadyumu (Silifke)
DESCRIPTION:Dónde ver Silifke Belediyespor vs Malatya YS en Turquía - 3. 
 Lig. Transmisión en vivo y programación de TV.\nhttps://streamradar.socce
 r/es/match/5620201/silifke-belediyespor-vs-malatya-ys/
URL;VALUE=URI:https://streamradar.soccer/es/match/5620201/silifke-belediyes
 por-vs-malatya-ys/
STATUS:CONFIRMED
END:VEVENT
END:VCALENDAR
