BEGIN:VCALENDAR
VERSION:2.0
PRODID:-//StreamRadar//Match Calendar//EN
CALSCALE:GREGORIAN
METHOD:PUBLISH
X-WR-CALNAME:Deren vs Ulaangom City
X-WR-TIMEZONE:America/New_York
BEGIN:VEVENT
UID:match-5619665@streamradar.soccer
SUMMARY:Deren vs Ulaangom City
DTSTAMP:20260423T123327Z
DTSTART;TZID=America/New_York:20260507T030000
DTEND;TZID=America/New_York:20260507T050000
DESCRIPTION:Dónde ver Deren vs Ulaangom City en Mongolia - Premier League.
  Transmisión en vivo y programación de TV.\nhttps://streamradar.soccer/es
 /match/5619665/deren-vs-ulaangom-city/
URL;VALUE=URI:https://streamradar.soccer/es/match/5619665/deren-vs-ulaangom
 -city/
STATUS:CONFIRMED
END:VEVENT
END:VCALENDAR
