BEGIN:VCALENDAR
VERSION:2.0
PRODID:-//StreamRadar//Match Calendar//EN
CALSCALE:GREGORIAN
METHOD:PUBLISH
X-WR-CALNAME:Casa Sport vs Gorée
X-WR-TIMEZONE:America/New_York
BEGIN:VEVENT
UID:match-5619642@streamradar.soccer
SUMMARY:Casa Sport vs Gorée
DTSTAMP:20260426T024825Z
DTSTART;TZID=America/New_York:20260426T130000
DTEND;TZID=America/New_York:20260426T150000
LOCATION:Stade Aline Sitoé Diatta (Ziguinchor)
DESCRIPTION:Dónde ver Casa Sport vs Gorée en Senegal - Premier League. Tr
 ansmisión en vivo y programación de TV.\nhttps://streamradar.soccer/es/ma
 tch/5619642/casa-sport-vs-goree/
URL;VALUE=URI:https://streamradar.soccer/es/match/5619642/casa-sport-vs-gor
 ee/
STATUS:CONFIRMED
END:VEVENT
END:VCALENDAR
