BEGIN:VCALENDAR
VERSION:2.0
PRODID:-//StreamRadar//Match Calendar//EN
CALSCALE:GREGORIAN
METHOD:PUBLISH
X-WR-CALNAME:Manchester City U21 vs Arsenal U21
X-WR-TIMEZONE:America/New_York
BEGIN:VEVENT
UID:match-5619605@streamradar.soccer
SUMMARY:Manchester City U21 vs Arsenal U21
DTSTAMP:20260423T123904Z
DTSTART;TZID=America/New_York:20260425T140000
DTEND;TZID=America/New_York:20260425T160000
LOCATION:Academy Stadium
DESCRIPTION:Dónde ver Manchester City Sub-21 vs Arsenal Sub-21 en Inglater
 ra - Premier League 2. Transmisión en vivo y programación de TV.\nhttps:/
 /streamradar.soccer/es/match/5619605/manchester-city-u21-vs-arsenal-u21/
URL;VALUE=URI:https://streamradar.soccer/es/match/5619605/manchester-city-u
 21-vs-arsenal-u21/
STATUS:CONFIRMED
END:VEVENT
END:VCALENDAR
