BEGIN:VCALENDAR
VERSION:2.0
PRODID:-//StreamRadar//Match Calendar//EN
CALSCALE:GREGORIAN
METHOD:PUBLISH
X-WR-CALNAME:Ipswich Town U21 vs Brighton U21
X-WR-TIMEZONE:America/New_York
BEGIN:VEVENT
UID:match-5619601@streamradar.soccer
SUMMARY:Ipswich Town U21 vs Brighton U21
DTSTAMP:20260423T124638Z
DTSTART;TZID=America/New_York:20260424T140000
DTEND;TZID=America/New_York:20260424T160000
DESCRIPTION:Dónde ver Ipswich Town Sub-21 vs Brighton Sub-21 en Inglaterra
  - Premier League 2. Transmisión en vivo y programación de TV.\nhttps://s
 treamradar.soccer/es/match/5619601/ipswich-town-u21-vs-brighton-u21/
URL;VALUE=URI:https://streamradar.soccer/es/match/5619601/ipswich-town-u21-
 vs-brighton-u21/
STATUS:CONFIRMED
END:VEVENT
END:VCALENDAR
