BEGIN:VCALENDAR
VERSION:2.0
PRODID:-//StreamRadar//Match Calendar//EN
CALSCALE:GREGORIAN
METHOD:PUBLISH
X-WR-CALNAME:Gnistan O35 vs PuiU Helsinki
X-WR-TIMEZONE:America/New_York
BEGIN:VEVENT
UID:match-5619562@streamradar.soccer
SUMMARY:Gnistan O35 vs PuiU Helsinki
DTSTAMP:20260423T123828Z
DTSTART;TZID=America/New_York:20260429T140000
DTEND;TZID=America/New_York:20260429T160000
LOCATION:Markku.fi Areena
DESCRIPTION:Dónde ver Gnistan O35 vs PuiU Helsinki en Finlandia - Suomen C
 up. Transmisión en vivo y programación de TV.\nhttps://streamradar.soccer
 /es/match/5619562/gnistan-o35-vs-puiu-helsinki/
URL;VALUE=URI:https://streamradar.soccer/es/match/5619562/gnistan-o35-vs-pu
 iu-helsinki/
STATUS:CONFIRMED
END:VEVENT
END:VCALENDAR
