BEGIN:VCALENDAR
VERSION:2.0
PRODID:-//StreamRadar//Match Calendar//EN
CALSCALE:GREGORIAN
METHOD:PUBLISH
X-WR-CALNAME:EIF Academy vs Haka
X-WR-TIMEZONE:America/New_York
BEGIN:VEVENT
UID:match-5619559@streamradar.soccer
SUMMARY:EIF Academy vs Haka
DTSTAMP:20260423T140531Z
DTSTART;TZID=America/New_York:20260429T120000
DTEND;TZID=America/New_York:20260429T140000
DESCRIPTION:Dónde ver EIF Academy vs Haka en Finlandia - Suomen Cup. Trans
 misión en vivo y programación de TV.\nhttps://streamradar.soccer/es/match
 /5619559/eif-academy-vs-haka/
URL;VALUE=URI:https://streamradar.soccer/es/match/5619559/eif-academy-vs-ha
 ka/
STATUS:CONFIRMED
END:VEVENT
END:VCALENDAR
