BEGIN:VCALENDAR
VERSION:2.0
PRODID:-//StreamRadar//Match Calendar//EN
CALSCALE:GREGORIAN
METHOD:PUBLISH
X-WR-CALNAME:Kraft vs Tampere United
X-WR-TIMEZONE:America/New_York
BEGIN:VEVENT
UID:match-5619548@streamradar.soccer
SUMMARY:Kraft vs Tampere United
DTSTAMP:20260423T123825Z
DTSTART;TZID=America/New_York:20260429T090000
DTEND;TZID=America/New_York:20260429T110000
LOCATION:Mosedal
DESCRIPTION:Dónde ver Kraft vs Tampere United en Finlandia - Suomen Cup. T
 ransmisión en vivo y programación de TV.\nhttps://streamradar.soccer/es/m
 atch/5619548/kraft-vs-tampere-united/
URL;VALUE=URI:https://streamradar.soccer/es/match/5619548/kraft-vs-tampere-
 united/
STATUS:CONFIRMED
END:VEVENT
END:VCALENDAR
