BEGIN:VCALENDAR
VERSION:2.0
PRODID:-//StreamRadar//Match Calendar//EN
CALSCALE:GREGORIAN
METHOD:PUBLISH
X-WR-CALNAME:Futura vs VJS
X-WR-TIMEZONE:America/New_York
BEGIN:VEVENT
UID:match-5619545@streamradar.soccer
SUMMARY:Futura vs VJS
DTSTAMP:20260423T140541Z
DTSTART;TZID=America/New_York:20260429T090000
DTEND;TZID=America/New_York:20260429T110000
LOCATION:Porvoon Keskuskenttä (Porvoo)
DESCRIPTION:Dónde ver Futura vs VJS en Finlandia - Suomen Cup. Transmisió
 n en vivo y programación de TV.\nhttps://streamradar.soccer/es/match/56195
 45/futura-vs-vjs/
URL;VALUE=URI:https://streamradar.soccer/es/match/5619545/futura-vs-vjs/
STATUS:CONFIRMED
END:VEVENT
END:VCALENDAR
