BEGIN:VCALENDAR
VERSION:2.0
PRODID:-//StreamRadar//Match Calendar//EN
CALSCALE:GREGORIAN
METHOD:PUBLISH
X-WR-CALNAME:Jokerit Helsinki vs HIFK
X-WR-TIMEZONE:America/New_York
BEGIN:VEVENT
UID:match-5619542@streamradar.soccer
SUMMARY:Jokerit Helsinki vs HIFK
DTSTAMP:20260423T123413Z
DTSTART;TZID=America/New_York:20260428T140000
DTEND;TZID=America/New_York:20260428T160000
LOCATION:Markku.fi Areena
DESCRIPTION:Dónde ver Jokerit Helsinki vs HIFK en Finlandia - Suomen Cup. 
 Transmisión en vivo y programación de TV.\nhttps://streamradar.soccer/es/
 match/5619542/jokerit-helsinki-vs-hifk/
URL;VALUE=URI:https://streamradar.soccer/es/match/5619542/jokerit-helsinki-
 vs-hifk/
STATUS:CONFIRMED
END:VEVENT
END:VCALENDAR
