BEGIN:VCALENDAR
VERSION:2.0
PRODID:-//StreamRadar//Match Calendar//EN
CALSCALE:GREGORIAN
METHOD:PUBLISH
X-WR-CALNAME:StaPa De Royale vs PK-35
X-WR-TIMEZONE:America/New_York
BEGIN:VEVENT
UID:match-5619535@streamradar.soccer
SUMMARY:StaPa De Royale vs PK-35
DTSTAMP:20260423T123411Z
DTSTART;TZID=America/New_York:20260427T112000
DTEND;TZID=America/New_York:20260427T132000
DESCRIPTION:Dónde ver StaPa De Royale vs PK-35 en Finlandia - Suomen Cup. 
 Transmisión en vivo y programación de TV.\nhttps://streamradar.soccer/es/
 match/5619535/stapa-de-royale-vs-pk-35/
URL;VALUE=URI:https://streamradar.soccer/es/match/5619535/stapa-de-royale-v
 s-pk-35/
STATUS:CONFIRMED
END:VEVENT
END:VCALENDAR
