BEGIN:VCALENDAR
VERSION:2.0
PRODID:-//StreamRadar//Match Calendar//EN
CALSCALE:GREGORIAN
METHOD:PUBLISH
X-WR-CALNAME:Aarhus Fremad vs AaB
X-WR-TIMEZONE:America/New_York
BEGIN:VEVENT
UID:match-5619534@streamradar.soccer
SUMMARY:Aarhus Fremad vs AaB
DTSTAMP:20260423T123358Z
DTSTART;TZID=America/New_York:20260522T120000
DTEND;TZID=America/New_York:20260522T140000
LOCATION:Riisvangen
DESCRIPTION:Dónde ver Aarhus Fremad vs AaB en Dinamarca - Superliga danesa
 . Transmisión en vivo y programación de TV.\nhttps://streamradar.soccer/e
 s/match/5619534/aarhus-fremad-vs-aab/
URL;VALUE=URI:https://streamradar.soccer/es/match/5619534/aarhus-fremad-vs-
 aab/
STATUS:CONFIRMED
END:VEVENT
END:VCALENDAR
