BEGIN:VCALENDAR
VERSION:2.0
PRODID:-//StreamRadar//Match Calendar//EN
CALSCALE:GREGORIAN
METHOD:PUBLISH
X-WR-CALNAME:Fakel vs SKA Khabarovsk
X-WR-TIMEZONE:America/New_York
BEGIN:VEVENT
UID:match-5619497@streamradar.soccer
SUMMARY:Fakel vs SKA Khabarovsk
DTSTAMP:20260424T034447Z
DTSTART;TZID=America/New_York:20260508T110000
DTEND;TZID=America/New_York:20260508T130000
LOCATION:Fakel Stadium
DESCRIPTION:Dónde ver Fakel vs SKA Khabarovsk en Rusia - FNL. Transmisión
  en vivo y programación de TV.\nhttps://streamradar.soccer/es/match/561949
 7/fakel-vs-ska-khabarovsk/
URL;VALUE=URI:https://streamradar.soccer/es/match/5619497/fakel-vs-ska-khab
 arovsk/
STATUS:CONFIRMED
END:VEVENT
END:VCALENDAR
