BEGIN:VCALENDAR
VERSION:2.0
PRODID:-//StreamRadar//Match Calendar//EN
CALSCALE:GREGORIAN
METHOD:PUBLISH
X-WR-CALNAME:Omonia Nicosia vs Aris
X-WR-TIMEZONE:America/New_York
BEGIN:VEVENT
UID:match-5619484@streamradar.soccer
SUMMARY:Omonia Nicosia vs Aris
DTSTAMP:20260423T123410Z
DTSTART;TZID=America/New_York:20260502T120000
DTEND;TZID=America/New_York:20260502T140000
LOCATION:GSP Stadium
DESCRIPTION:Dónde ver Omonia Nicosia vs Aris en Chipre - Primera División
  de Chipre. Transmisión en vivo y programación de TV.\nhttps://streamrada
 r.soccer/es/match/5619484/omonia-nicosia-vs-aris/
URL;VALUE=URI:https://streamradar.soccer/es/match/5619484/omonia-nicosia-vs
 -aris/
STATUS:CONFIRMED
END:VEVENT
END:VCALENDAR
