BEGIN:VCALENDAR
VERSION:2.0
PRODID:-//StreamRadar//Match Calendar//EN
CALSCALE:GREGORIAN
METHOD:PUBLISH
X-WR-CALNAME:Tabasalu vs Levadia U19
X-WR-TIMEZONE:America/New_York
BEGIN:VEVENT
UID:match-5619010@streamradar.soccer
SUMMARY:Tabasalu vs Levadia U19
DTSTAMP:20260422T121526Z
DTSTART;TZID=America/New_York:20260517T120000
DTEND;TZID=America/New_York:20260517T140000
DESCRIPTION:Dónde ver Tabasalu vs Levadia Sub-19 en Estonia - Esiliiga B. 
 Transmisión en vivo y programación de TV.\nhttps://streamradar.soccer/es/
 match/5619010/tabasalu-vs-levadia-u19/
URL;VALUE=URI:https://streamradar.soccer/es/match/5619010/tabasalu-vs-levad
 ia-u19/
STATUS:CONFIRMED
END:VEVENT
END:VCALENDAR
