BEGIN:VCALENDAR
VERSION:2.0
PRODID:-//StreamRadar//Match Calendar//EN
CALSCALE:GREGORIAN
METHOD:PUBLISH
X-WR-CALNAME:Sanfrecce Hiroshima vs Beleza
X-WR-TIMEZONE:America/New_York
BEGIN:VEVENT
UID:match-5618965@streamradar.soccer
SUMMARY:Sanfrecce Hiroshima vs Beleza
DTSTAMP:20260422T121528Z
DTSTART;TZID=America/New_York:20260503T000500
DTEND;TZID=America/New_York:20260503T020500
LOCATION:Hiroshima Big Arch
DESCRIPTION:Dónde ver Sanfrecce Hiroshima vs Beleza en Japón - WE League.
  Transmisión en vivo y programación de TV.\nhttps://streamradar.soccer/es
 /match/5618965/sanfrecce-hiroshima-vs-beleza/
URL;VALUE=URI:https://streamradar.soccer/es/match/5618965/sanfrecce-hiroshi
 ma-vs-beleza/
STATUS:CONFIRMED
END:VEVENT
END:VCALENDAR
