BEGIN:VCALENDAR
VERSION:2.0
PRODID:-//StreamRadar//Match Calendar//EN
CALSCALE:GREGORIAN
METHOD:PUBLISH
X-WR-CALNAME:Portuguesa Santista vs Marília
X-WR-TIMEZONE:America/New_York
BEGIN:VEVENT
UID:match-5618942@streamradar.soccer
SUMMARY:Portuguesa Santista vs Marília
DTSTAMP:20260422T121657Z
DTSTART;TZID=America/New_York:20260426T090000
DTEND;TZID=America/New_York:20260426T110000
LOCATION:Estadio Ulrico Mursa
DESCRIPTION:Dónde ver Portuguesa Santista vs Marília en Brasil - Campeona
 to Paulista A3. Transmisión en vivo y programación de TV.\nhttps://stream
 radar.soccer/es/match/5618942/portuguesa-santista-vs-marilia/
URL;VALUE=URI:https://streamradar.soccer/es/match/5618942/portuguesa-santis
 ta-vs-marilia/
STATUS:CONFIRMED
END:VEVENT
END:VCALENDAR
