BEGIN:VCALENDAR
VERSION:2.0
PRODID:-//StreamRadar//Match Calendar//EN
CALSCALE:GREGORIAN
METHOD:PUBLISH
X-WR-CALNAME:Durango vs Zacatepec
X-WR-TIMEZONE:America/New_York
BEGIN:VEVENT
UID:match-5618873@streamradar.soccer
SUMMARY:Durango vs Zacatepec
DTSTAMP:20260422T105900Z
DTSTART;TZID=America/New_York:20260425T160000
DTEND;TZID=America/New_York:20260425T180000
LOCATION:Estadio Francisco Zarco
DESCRIPTION:Dónde ver Durango vs Zacatepec en México - Liga MX. Transmisi
 ón en vivo y programación de TV.\nhttps://streamradar.soccer/es/match/561
 8873/durango-vs-zacatepec/
URL;VALUE=URI:https://streamradar.soccer/es/match/5618873/durango-vs-zacate
 pec/
STATUS:CONFIRMED
END:VEVENT
END:VCALENDAR
