BEGIN:VCALENDAR
VERSION:2.0
PRODID:-//StreamRadar//Match Calendar//EN
CALSCALE:GREGORIAN
METHOD:PUBLISH
X-WR-CALNAME:Ario Eslamshahr vs Mes Kerman
X-WR-TIMEZONE:America/New_York
BEGIN:VEVENT
UID:match-5618867@streamradar.soccer
SUMMARY:Ario Eslamshahr vs Mes Kerman
DTSTAMP:20260422T094308Z
DTSTART;TZID=America/New_York:20260521T093000
DTEND;TZID=America/New_York:20260521T113000
DESCRIPTION:Dónde ver Ario Eslamshahr vs Mes Kerman en Irán - Azadegan Le
 ague. Transmisión en vivo y programación de TV.\nhttps://streamradar.socc
 er/es/match/5618867/ario-eslamshahr-vs-mes-kerman/
URL;VALUE=URI:https://streamradar.soccer/es/match/5618867/ario-eslamshahr-v
 s-mes-kerman/
STATUS:CONFIRMED
END:VEVENT
END:VCALENDAR
