BEGIN:VCALENDAR
VERSION:2.0
PRODID:-//StreamRadar//Match Calendar//EN
CALSCALE:GREGORIAN
METHOD:PUBLISH
X-WR-CALNAME:FSK Radviliskis vs FK Panevezys
X-WR-TIMEZONE:America/New_York
BEGIN:VEVENT
UID:match-5618842@streamradar.soccer
SUMMARY:FSK Radviliskis vs FK Panevezys
DTSTAMP:20260423T123903Z
DTSTART;TZID=America/New_York:20260429T123000
DTEND;TZID=America/New_York:20260429T143000
DESCRIPTION:Dónde ver FSK Radviliskis vs FK Panevezys en Lituania - LFF ta
 urė. Transmisión en vivo y programación de TV.\nhttps://streamradar.socc
 er/es/match/5618842/fsk-radviliskis-vs-fk-panevezys/
URL;VALUE=URI:https://streamradar.soccer/es/match/5618842/fsk-radviliskis-v
 s-fk-panevezys/
STATUS:CONFIRMED
END:VEVENT
END:VCALENDAR
