BEGIN:VCALENDAR
VERSION:2.0
PRODID:-//StreamRadar//Match Calendar//EN
CALSCALE:GREGORIAN
METHOD:PUBLISH
X-WR-CALNAME:Maccabi Petah Tikva vs Hapoel Kfar Saba
X-WR-TIMEZONE:America/New_York
BEGIN:VEVENT
UID:match-5618820@streamradar.soccer
SUMMARY:Maccabi Petah Tikva vs Hapoel Kfar Saba
DTSTAMP:20260422T114234Z
DTSTART;TZID=America/New_York:20260515T090000
DTEND;TZID=America/New_York:20260515T110000
LOCATION:HaMoshava Stadium
DESCRIPTION:Dónde ver Maccabi Petah Tikva vs Hapoel Kfar Saba en Israel - 
 Liga Leumit. Transmisión en vivo y programación de TV.\nhttps://streamrad
 ar.soccer/es/match/5618820/maccabi-petah-tikva-vs-hapoel-kfar-saba/
URL;VALUE=URI:https://streamradar.soccer/es/match/5618820/maccabi-petah-tik
 va-vs-hapoel-kfar-saba/
STATUS:CONFIRMED
END:VEVENT
END:VCALENDAR
