BEGIN:VCALENDAR
VERSION:2.0
PRODID:-//StreamRadar//Match Calendar//EN
CALSCALE:GREGORIAN
METHOD:PUBLISH
X-WR-CALNAME:Ironi Modi'in vs Hapoel Nazareth Illit
X-WR-TIMEZONE:America/New_York
BEGIN:VEVENT
UID:match-5618802@streamradar.soccer
SUMMARY:Ironi Modi'in vs Hapoel Nazareth Illit
DTSTAMP:20260422T113803Z
DTSTART;TZID=America/New_York:20260519T120000
DTEND;TZID=America/New_York:20260519T140000
DESCRIPTION:Dónde ver Ironi Modi'in vs Hapoel Nazareth Illit en Israel - L
 iga Leumit. Transmisión en vivo y programación de TV.\nhttps://streamrada
 r.soccer/es/match/5618802/ironi-modiin-vs-hapoel-nazareth-illit/
URL;VALUE=URI:https://streamradar.soccer/es/match/5618802/ironi-modiin-vs-h
 apoel-nazareth-illit/
STATUS:CONFIRMED
END:VEVENT
END:VCALENDAR
