BEGIN:VCALENDAR
VERSION:2.0
PRODID:-//StreamRadar//Match Calendar//EN
CALSCALE:GREGORIAN
METHOD:PUBLISH
X-WR-CALNAME:Kafr Qasim vs Hapoel Acre
X-WR-TIMEZONE:America/New_York
BEGIN:VEVENT
UID:match-5618790@streamradar.soccer
SUMMARY:Kafr Qasim vs Hapoel Acre
DTSTAMP:20260422T104226Z
DTSTART;TZID=America/New_York:20260505T120000
DTEND;TZID=America/New_York:20260505T140000
DESCRIPTION:Dónde ver Kafr Qasim vs Hapoel Acre en Israel - Liga Leumit. T
 ransmisión en vivo y programación de TV.\nhttps://streamradar.soccer/es/m
 atch/5618790/kafr-qasim-vs-hapoel-acre/
URL;VALUE=URI:https://streamradar.soccer/es/match/5618790/kafr-qasim-vs-hap
 oel-acre/
STATUS:CONFIRMED
END:VEVENT
END:VCALENDAR
