BEGIN:VCALENDAR
VERSION:2.0
PRODID:-//StreamRadar//Match Calendar//EN
CALSCALE:GREGORIAN
METHOD:PUBLISH
X-WR-CALNAME:Fiorentina vs Como
X-WR-TIMEZONE:America/New_York
BEGIN:VEVENT
UID:match-5618739@streamradar.soccer
SUMMARY:Fiorentina vs Como
DTSTAMP:20260422T104018Z
DTSTART;TZID=America/New_York:20260503T090000
DTEND;TZID=America/New_York:20260503T110000
LOCATION:Curva Fiesole - Viola Park
DESCRIPTION:Dónde ver Fiorentina vs Como en Serie A femenina. Transmisión
  en vivo y programación de TV.\nhttps://streamradar.soccer/es/match/561873
 9/fiorentina-vs-como/
URL;VALUE=URI:https://streamradar.soccer/es/match/5618739/fiorentina-vs-com
 o/
STATUS:CONFIRMED
END:VEVENT
END:VCALENDAR
