BEGIN:VCALENDAR
VERSION:2.0
PRODID:-//StreamRadar//Match Calendar//EN
CALSCALE:GREGORIAN
METHOD:PUBLISH
X-WR-CALNAME:Al Ramtha vs Sama Al Sarhan
X-WR-TIMEZONE:America/New_York
BEGIN:VEVENT
UID:match-5618732@streamradar.soccer
SUMMARY:Al Ramtha vs Sama Al Sarhan
DTSTAMP:20260422T104046Z
DTSTART;TZID=America/New_York:20260427T100000
DTEND;TZID=America/New_York:20260427T120000
DESCRIPTION:Dónde ver Al Ramtha vs Sama Al Sarhan en Jordan League. Transm
 isión en vivo y programación de TV.\nhttps://streamradar.soccer/es/match/
 5618732/al-ramtha-vs-sama-al-sarhan/
URL;VALUE=URI:https://streamradar.soccer/es/match/5618732/al-ramtha-vs-sama
 -al-sarhan/
STATUS:CONFIRMED
END:VEVENT
END:VCALENDAR
