BEGIN:VCALENDAR
VERSION:2.0
PRODID:-//StreamRadar//Match Calendar//EN
CALSCALE:GREGORIAN
METHOD:PUBLISH
X-WR-CALNAME:Chanmari vs Diamond Harbour
X-WR-TIMEZONE:America/New_York
BEGIN:VEVENT
UID:match-5618714@streamradar.soccer
SUMMARY:Chanmari vs Diamond Harbour
DTSTAMP:20260422T120823Z
DTSTART;TZID=America/New_York:20260425T090000
DTEND;TZID=America/New_York:20260425T110000
LOCATION:Rajiv Gandhi Stadium
DESCRIPTION:Dónde ver Chanmari vs Diamond Harbour en India - I-League. Tra
 nsmisión en vivo y programación de TV.\nhttps://streamradar.soccer/es/mat
 ch/5618714/chanmari-vs-diamond-harbour/
URL;VALUE=URI:https://streamradar.soccer/es/match/5618714/chanmari-vs-diamo
 nd-harbour/
STATUS:CONFIRMED
END:VEVENT
END:VCALENDAR
