BEGIN:VCALENDAR
VERSION:2.0
PRODID:-//StreamRadar//Match Calendar//EN
CALSCALE:GREGORIAN
METHOD:PUBLISH
X-WR-CALNAME:Nairobi Utd vs Police
X-WR-TIMEZONE:America/New_York
BEGIN:VEVENT
UID:match-5618130@streamradar.soccer
SUMMARY:Nairobi Utd vs Police
DTSTAMP:20260421T104453Z
DTSTART;TZID=America/New_York:20260523T080000
DTEND;TZID=America/New_York:20260523T100000
DESCRIPTION:Dónde ver Nairobi Utd vs Police en Kenyan Premier League. Tran
 smisión en vivo y programación de TV.\nhttps://streamradar.soccer/es/matc
 h/5618130/nairobi-utd-vs-police/
URL;VALUE=URI:https://streamradar.soccer/es/match/5618130/nairobi-utd-vs-po
 lice/
STATUS:CONFIRMED
END:VEVENT
END:VCALENDAR
