BEGIN:VCALENDAR
VERSION:2.0
PRODID:-//StreamRadar//Match Calendar//EN
CALSCALE:GREGORIAN
METHOD:PUBLISH
X-WR-CALNAME:APS Bomet vs Leopards
X-WR-TIMEZONE:America/New_York
BEGIN:VEVENT
UID:match-5618124@streamradar.soccer
SUMMARY:APS Bomet vs Leopards
DTSTAMP:20260421T104027Z
DTSTART;TZID=America/New_York:20260523T080000
DTEND;TZID=America/New_York:20260523T100000
DESCRIPTION:Dónde ver APS Bomet vs Leopards en Kenyan Premier League. Tran
 smisión en vivo y programación de TV.\nhttps://streamradar.soccer/es/matc
 h/5618124/aps-bomet-vs-leopards/
URL;VALUE=URI:https://streamradar.soccer/es/match/5618124/aps-bomet-vs-leop
 ards/
STATUS:CONFIRMED
END:VEVENT
END:VCALENDAR
