BEGIN:VCALENDAR
VERSION:2.0
PRODID:-//StreamRadar//Match Calendar//EN
CALSCALE:GREGORIAN
METHOD:PUBLISH
X-WR-CALNAME:Crvena Zvezda vs OFK Beograd
X-WR-TIMEZONE:America/New_York
BEGIN:VEVENT
UID:match-5618114@streamradar.soccer
SUMMARY:Crvena Zvezda vs OFK Beograd
DTSTAMP:20260421T104532Z
DTSTART;TZID=America/New_York:20260523T130000
DTEND;TZID=America/New_York:20260523T150000
LOCATION:Stadion Rajko Mit
DESCRIPTION:Dónde ver Crvena Zvezda vs OFK Beograd en Serbia - Superliga d
 e Serbia. Transmisión en vivo y programación de TV.\nhttps://streamradar.
 soccer/es/match/5618114/crvena-zvezda-vs-ofk-beograd/
URL;VALUE=URI:https://streamradar.soccer/es/match/5618114/crvena-zvezda-vs-
 ofk-beograd/
STATUS:CONFIRMED
END:VEVENT
END:VCALENDAR
